BEGIN:VCALENDAR
VERSION:2.0
PRODID:-//ChamberMaster//Event Calendar 2.0//EN
METHOD:PUBLISH
X-PUBLISHED-TTL:P3D
REFRESH-INTERVAL:P3D
CALSCALE:GREGORIAN
BEGIN:VEVENT
DTSTART:20220818T220000Z
DTEND:20220828T045500Z
X-MICROSOFT-CDO-ALLDAYEVENT:FALSE
SUMMARY:Wilson County Fair-Tennessee State Fair
DESCRIPTION:10 days of Family Fun at the Fair that includes "95 Reasons to Celebrate Tennessee" as we showcase all 95 counties in our state and the Year of Hay! Thrilling rides\, exhibits\, competitions\, tractor pulls\, demolition derbies\, Fair food\, livestock shows\, 9 stages of entertainment\, pageants\, historic village and so much more! You can't see it all in one visit!
X-ALT-DESC;FMTTYPE=text/html:10 days of Family Fun at the Fair that includes &quot\;95 Reasons to Celebrate Tennessee&quot\; as we showcase all 95 counties in our state and the Year of Hay! Thrilling rides\, exhibits\, competitions\, tractor pulls\, demolition derbies\, Fair food\, livestock shows\, 9 stages of entertainment\, pageants\, historic village and so much more! You can&rsquo\;t see it all in one visit!
LOCATION:Lebanon\, TN
UID:e.2544.10781
SEQUENCE:3
DTSTAMP:20260423T212327Z
URL:https://business.mjchamber.org/events/details/wilson-county-fair-tennessee-state-fair-10781
END:VEVENT

END:VCALENDAR
