BEGIN:VCALENDAR
VERSION:2.0
PRODID:-//ChamberMaster//Event Calendar 2.0//EN
METHOD:PUBLISH
X-PUBLISHED-TTL:P3D
REFRESH-INTERVAL:P3D
CALSCALE:GREGORIAN
BEGIN:VEVENT
DTSTART:20120427T230000Z
DTEND:20120427T230000Z
X-MICROSOFT-CDO-ALLDAYEVENT:FALSE
SUMMARY:Wilson County Friends of the NRA
DESCRIPTION:Guns-Games-Food-Guns! More guns than ever! Each ticket includes a Range Pass at The Gun Room and a chance to win a Taurus model 85 Ultra-Light Stainless .38. Tickets are $30 in advance / $35 at the door
X-ALT-DESC;FMTTYPE=text/html:Guns-Games-Food-Guns! More guns than ever! Each ticket includes a Range Pass at The Gun Room and a chance to win a Taurus model 85 Ultra-Light Stainless .38. Tickets are $30 in advance / $35 at the door
LOCATION:
UID:e.2544.261
SEQUENCE:3
DTSTAMP:20260419T200208Z
URL:https://business.mjchamber.org/events/details/wilson-county-friends-of-the-nra-04-27-2012-261
END:VEVENT

END:VCALENDAR
