BEGIN:VCALENDAR
VERSION:2.0
PRODID:-//ChamberMaster//Event Calendar 2.0//EN
METHOD:PUBLISH
X-PUBLISHED-TTL:P3D
REFRESH-INTERVAL:P3D
CALSCALE:GREGORIAN
BEGIN:VEVENT
DTSTART:20120628T150000Z
DTEND:20120628T190000Z
X-MICROSOFT-CDO-ALLDAYEVENT:FALSE
SUMMARY:Wilson County Job Fair
DESCRIPTION:This Career Fair will be open to the public from 10:00 AM-2:00 PM. Hosted by the Tennessee Career Center at Lebanon and Wilson County Mayor's Office.  \n(Employers may arrive at 8:00 AM to set up and must be out of the building by 3:00 PM.) Free parking is available to everyone. \nPlease call Mika Russ at 443-2739\, extension 232 or e-mail at mika.russ@tn.gov if you have further questions.\nFor more information\, you may also contact Ron Hammontree at 741-8892.
X-ALT-DESC;FMTTYPE=text/html:This Career Fair will be open to the public from 10:00 AM-2:00 PM. Hosted by the Tennessee Career Center at Lebanon and Wilson County Mayor's Office.  \n(Employers may arrive at 8:00 AM to set up and must be out of the building by 3:00 PM.) Free parking is available to everyone. \nPlease call Mika Russ at 443-2739\, extension 232 or e-mail at mika.russ@tn.gov if you have further questions.\nFor more information\, you may also contact Ron Hammontree at 741-8892.
LOCATION:
UID:e.2544.308
SEQUENCE:3
DTSTAMP:20260419T181459Z
URL:https://business.mjchamber.org/events/details/wilson-county-job-fair-06-28-2012-308
END:VEVENT

END:VCALENDAR
