BEGIN:VCALENDAR
VERSION:2.0
PRODID:-//ChamberMaster//Event Calendar 2.0//EN
METHOD:PUBLISH
X-PUBLISHED-TTL:P3D
REFRESH-INTERVAL:P3D
CALSCALE:GREGORIAN
BEGIN:VEVENT
DTSTART:20110629T133000Z
DTEND:20110629T150000Z
X-MICROSOFT-CDO-ALLDAYEVENT:FALSE
SUMMARY:Wilson County Mayor Hutto in Mt. Juliet
DESCRIPTION:
X-ALT-DESC;FMTTYPE=text/html:
LOCATION:City Hall- 2425 N. Mt. Juliet Road
UID:e.2544.45
SEQUENCE:3
DTSTAMP:20260422T085955Z
URL:https://business.mjchamber.org/events/details/wilson-county-mayor-hutto-in-mt-juliet-06-29-2011-45
END:VEVENT

END:VCALENDAR
