BEGIN:VCALENDAR
VERSION:2.0
PRODID:-//ChamberMaster//Event Calendar 2.0//EN
METHOD:PUBLISH
X-PUBLISHED-TTL:P3D
REFRESH-INTERVAL:P3D
CALSCALE:GREGORIAN
BEGIN:VEVENT
DTSTART:20110727T133000Z
DTEND:20110727T150000Z
X-MICROSOFT-CDO-ALLDAYEVENT:FALSE
SUMMARY:Wilson County Mayor Hutto in Mt. Juliet
DESCRIPTION:"Meet The Mayor". If you wish to speak to the mayor during one of these visits\, you are welcome to do so.
X-ALT-DESC;FMTTYPE=text/html:"Meet The Mayor". If you wish to speak to the mayor during one of these visits\, you are welcome to do so.
LOCATION:City Hall- 2425 N. Mt. Juliet Road
UID:e.2544.46
SEQUENCE:3
DTSTAMP:20260420T113732Z
URL:https://business.mjchamber.org/events/details/wilson-county-mayor-hutto-in-mt-juliet-07-27-2011-46
END:VEVENT

END:VCALENDAR
