BEGIN:VCALENDAR
VERSION:2.0
PRODID:-//ChamberMaster//Event Calendar 2.0//EN
METHOD:PUBLISH
X-PUBLISHED-TTL:P3D
REFRESH-INTERVAL:P3D
CALSCALE:GREGORIAN
BEGIN:VEVENT
DTSTART:20111026T133000Z
DTEND:20111026T150000Z
X-MICROSOFT-CDO-ALLDAYEVENT:FALSE
SUMMARY:Wilson County Mayor Randall Hutto in Mt. Juliet
DESCRIPTION:"Meet the Mayor". If you wish to speak to the mayor during one of these visits\, you are welcome to do so.  No appointment is necessary.
X-ALT-DESC;FMTTYPE=text/html:"Meet the Mayor". If you wish to speak to the mayor during one of these visits\, you are welcome to do so.  No appointment is necessary.
LOCATION:City Hall-2425 N. Mt. Juliet Road
UID:e.2544.98
SEQUENCE:3
DTSTAMP:20260420T063429Z
URL:https://business.mjchamber.org/events/details/wilson-county-mayor-randall-hutto-in-mt-juliet-10-26-2011-98
END:VEVENT

END:VCALENDAR
