BEGIN:VCALENDAR
VERSION:2.0
PRODID:-//ChamberMaster//Event Calendar 2.0//EN
METHOD:PUBLISH
X-PUBLISHED-TTL:P3D
REFRESH-INTERVAL:P3D
CALSCALE:GREGORIAN
BEGIN:VEVENT
DTSTART:20110707T163000Z
DTEND:20110707T163000Z
X-MICROSOFT-CDO-ALLDAYEVENT:FALSE
SUMMARY:Wilson County Senior Care Program
DESCRIPTION:July's topic is "Long-distance Caregiving". Learn how to tell if your senior needs assistance\, tips and solutions on how to handle long-distance caregiving. Seniors and caregivers of Wilson County welcome to attend.
X-ALT-DESC;FMTTYPE=text/html:July's topic is "Long-distance Caregiving". Learn how to tell if your senior needs assistance\, tips and solutions on how to handle long-distance caregiving. Seniors and caregivers of Wilson County welcome to attend.
LOCATION:3rd floor of the Wilson County Court House\, Commissioners' Room Lebanon\, TN
UID:e.2544.53
SEQUENCE:3
DTSTAMP:20260420T113436Z
URL:https://business.mjchamber.org/events/details/wilson-county-senior-care-program-07-07-2011-53
END:VEVENT

END:VCALENDAR
