BEGIN:VCALENDAR
VERSION:2.0
PRODID:-//ChamberMaster//Event Calendar 2.0//EN
METHOD:PUBLISH
X-PUBLISHED-TTL:P3D
REFRESH-INTERVAL:P3D
CALSCALE:GREGORIAN
BEGIN:VEVENT
DTSTART:20110804T163000Z
DTEND:20110804T163000Z
X-MICROSOFT-CDO-ALLDAYEVENT:FALSE
SUMMARY:Wilson County Senior Care Program
DESCRIPTION:Topic this month is "Helping Parents With Finances".  Learn about services offered by financial and estate planning experts.  Learn how to get your parents organized financially. Wilson County seniors and caregivers are welcome to attend.
X-ALT-DESC;FMTTYPE=text/html:Topic this month is "Helping Parents With Finances".  Learn about services offered by financial and estate planning experts.  Learn how to get your parents organized financially. Wilson County seniors and caregivers are welcome to attend.
LOCATION:3rd floor Wilson County Courthouse Lebanon\, TN
UID:e.2544.82
SEQUENCE:3
DTSTAMP:20260420T095935Z
URL:https://business.mjchamber.org/events/details/wilson-county-senior-care-program-08-04-2011-82
END:VEVENT

END:VCALENDAR
