BEGIN:VCALENDAR
VERSION:2.0
PRODID:-//ChamberMaster//Event Calendar 2.0//EN
METHOD:PUBLISH
X-PUBLISHED-TTL:P3D
REFRESH-INTERVAL:P3D
CALSCALE:GREGORIAN
BEGIN:VEVENT
DTSTART;VALUE=DATE:20210705
DTEND;VALUE=DATE:20210706
TRANSP:TRANSPARENT
X-MICROSOFT-CDO-ALLDAYEVENT:TRUE
SUMMARY:Wilson County Soccer League Fall Sign Ups Begin
DESCRIPTION:For more information visit our website https://tshq.bluesombrero.com/default.aspx?portalid=29377
X-ALT-DESC;FMTTYPE=text/html:For more information visit our <a href="https://tshq.bluesombrero.com/default.aspx?portalid=29377" target="_blank">website&nbsp\;https://tshq.bluesombrero.com/default.aspx?portalid=29377</a>
LOCATION:
UID:e.2544.10056
SEQUENCE:3
DTSTAMP:20260424T165010Z
URL:https://business.mjchamber.org/events/details/wilson-county-soccer-league-fall-sign-ups-begin-10056
END:VEVENT

END:VCALENDAR
