BEGIN:VCALENDAR
VERSION:2.0
PRODID:-//ChamberMaster//Event Calendar 2.0//EN
METHOD:PUBLISH
X-PUBLISHED-TTL:P3D
REFRESH-INTERVAL:P3D
CALSCALE:GREGORIAN
BEGIN:VEVENT
DTSTART:20110712T143000Z
DTEND:20110712T143000Z
X-MICROSOFT-CDO-ALLDAYEVENT:FALSE
SUMMARY:Wilson County-The Place To Be
DESCRIPTION:
X-ALT-DESC;FMTTYPE=text/html:
LOCATION:2nd Floor of Court House Lebanon\, TN
UID:e.2544.50
SEQUENCE:3
DTSTAMP:20260420T113809Z
URL:https://business.mjchamber.org/events/details/wilson-county-the-place-to-be-07-12-2011-50
END:VEVENT

END:VCALENDAR
