BEGIN:VCALENDAR
VERSION:2.0
PRODID:-//ChamberMaster//Event Calendar 2.0//EN
METHOD:PUBLISH
X-PUBLISHED-TTL:P3D
REFRESH-INTERVAL:P3D
CALSCALE:GREGORIAN
BEGIN:VEVENT
DTSTART:20110913T143000Z
DTEND:20110913T143000Z
X-MICROSOFT-CDO-ALLDAYEVENT:FALSE
SUMMARY:Wilson County-The Place To Be!
DESCRIPTION:Find out why Wilson County is the place to.....Live\, Learn\, Shop\, Work\, Play...BE!!
X-ALT-DESC;FMTTYPE=text/html:Find out why Wilson County is the place to.....Live\, Learn\, Shop\, Work\, Play...BE!!
LOCATION:2nd Floor of the Court House Lebanon\, TN
UID:e.2544.111
SEQUENCE:3
DTSTAMP:20260420T100355Z
URL:https://business.mjchamber.org/events/details/wilson-county-the-place-to-be-09-13-2011-111
END:VEVENT

END:VCALENDAR
