BEGIN:VCALENDAR
VERSION:2.0
PRODID:-//ChamberMaster//Event Calendar 2.0//EN
METHOD:PUBLISH
X-PUBLISHED-TTL:P3D
REFRESH-INTERVAL:P3D
CALSCALE:GREGORIAN
BEGIN:VEVENT
DTSTART:20210929T163000Z
DTEND:20210929T180000Z
X-MICROSOFT-CDO-ALLDAYEVENT:FALSE
SUMMARY:Wilson One 20 Year Anniversary Celebration
DESCRIPTION:Celebrating 20th year of giving scholarships and each month giving to local charities Lunch will be catered by Wildberry Catering Guest speaker Donna Wright
X-ALT-DESC;FMTTYPE=text/html:Celebrating 20th year of giving scholarships and each month giving to local charities Lunch will be catered by Wildberry Catering Guest speaker Donna Wright
LOCATION:Capitol Theatre
UID:e.2544.10237
SEQUENCE:3
DTSTAMP:20260424T175553Z
URL:https://business.mjchamber.org/events/details/wilson-one-20-year-anniversary-celebration-10237
END:VEVENT

END:VCALENDAR
