BEGIN:VCALENDAR
VERSION:2.0
PRODID:-//ChamberMaster//Event Calendar 2.0//EN
METHOD:PUBLISH
X-PUBLISHED-TTL:P3D
REFRESH-INTERVAL:P3D
CALSCALE:GREGORIAN
BEGIN:VEVENT
DTSTART:20211206T173000Z
DTEND:20211206T190000Z
X-MICROSOFT-CDO-ALLDAYEVENT:FALSE
SUMMARY:Wilson Rides Volunteer Driver/Orientation Lunch & Learn
DESCRIPTION:Volunteer Driver/Orientation - Lunch & Learn (lunch provided)\n\n\n \n\n\n\nAll participants have to confirm attendance by Friday\, December 3rd. \n\nConfirm to: Gaye Lynn Wilson at gayelynn@wilsonridesinc.org
X-ALT-DESC;FMTTYPE=text/html:<div style="color: rgb(34\, 34\, 34)\; font-family: Arial\, Helvetica\, sans-serif\; font-size: small\;"><b>Volunteer Driver/Orientation - Lunch &amp\; Learn (lunch provided)</b></div>\n\n<div style="color: rgb(34\, 34\, 34)\; font-family: Arial\, Helvetica\, sans-serif\; font-size: small\;">\n<div style="color: rgb(34\, 34\, 34)\; font-family: Arial\, Helvetica\, sans-serif\; font-size: small\;">&nbsp\;</div>\n</div>\n\n<div style="color: rgb(34\, 34\, 34)\; font-family: Arial\, Helvetica\, sans-serif\; font-size: small\;">\n<div style="color: rgb(34\, 34\, 34)\; font-family: Arial\, Helvetica\, sans-serif\; font-size: small\;"><b>All participants&nbsp\;have to confirm&nbsp\;attendance by Friday\, December 3rd.&nbsp\;</b></div>\n\n<div style="color: rgb(34\, 34\, 34)\; font-family: Arial\, Helvetica\, sans-serif\; font-size: small\;"><b>Confirm to: Gaye Lynn Wilson at&nbsp\;<a href="mailto:gayelynn@wilsonridesinc.org" style="color: rgb(17\, 85\, 204)\;" target="_blank">gayelynn@wilsonridesinc.org</a></b></div>\n</div>\n
LOCATION:Pinnacle Financial Partners 551 North Mount Juliet Road Mount Juliet\, TN 37122
UID:e.2544.10632
SEQUENCE:3
DTSTAMP:20260424T123259Z
URL:https://business.mjchamber.org/events/details/wilson-rides-volunteer-driver-orientation-lunch-learn-10632
END:VEVENT

END:VCALENDAR
