BEGIN:VCALENDAR
VERSION:2.0
PRODID:-//ChamberMaster//Event Calendar 2.0//EN
METHOD:PUBLISH
X-PUBLISHED-TTL:P3D
REFRESH-INTERVAL:P3D
CALSCALE:GREGORIAN
BEGIN:VEVENT
DTSTART:20210717T160000Z
DTEND:20210717T200000Z
X-MICROSOFT-CDO-ALLDAYEVENT:FALSE
SUMMARY:Wilson United Soccer Club in person registration
DESCRIPTION:Register for youth fall rec soccer with Wilson United Soccer Club Saturday July 17th from 11 am - 3 pm
X-ALT-DESC;FMTTYPE=text/html:Register for youth fall rec soccer with Wilson United Soccer Club Saturday July 17th from 11 am - 3 pm
LOCATION:Charlie Daniels Park
UID:e.2544.10133
SEQUENCE:3
DTSTAMP:20260424T183035Z
URL:https://business.mjchamber.org/events/details/wilson-united-soccer-club-in-person-registration-10133
END:VEVENT

END:VCALENDAR
