BEGIN:VCALENDAR
VERSION:2.0
PRODID:-//ChamberMaster//Event Calendar 2.0//EN
METHOD:PUBLISH
X-PUBLISHED-TTL:P3D
REFRESH-INTERVAL:P3D
CALSCALE:GREGORIAN
BEGIN:VEVENT
DTSTART:20220205T150000Z
DTEND:20220205T180000Z
X-MICROSOFT-CDO-ALLDAYEVENT:FALSE
SUMMARY:Wilson United Soccer In Person Registration
DESCRIPTION:Wilson United Soccer Club is hosting our spring in person registration event! \n\nThis will be at our fields in Mt Juliet fields! \n\nSoccer is one of the fastest growing sports in the world as well as in Wilson County. Our goal is to see continued success while offering a fun and learning experience for all children in the city and county. Soccer offers many important skills in life that all children can benefit from such as:\n\n\n\nTeamwork\n\nFun & Healthy Exercise\n\nSocial Interaction\n\nHealthy Competition\n\n\n\nWilson United helps coordinate and facilitate club practice and play for youth and adults in Wilson County. The Wilson United Soccer Club is the premier soccer club in the greater Nashville area.  We provide competitive soccer for our travel and rec programs.\n\n\nWilson United Soccer Club is a non-profit 501c3 organization.  Our organization is comprised of community leaders\, soccer enthusiasts and mostly parents who have children in the league.  One hundred percent of our registration fees go to pay the expenses in running the league\, to make improvements to our complex\, and to purchase equipment to keep up our facility. Wilson United has no paid positions on the Board of Directors.
X-ALT-DESC;FMTTYPE=text/html:Wilson United Soccer Club is hosting our spring in person registration event!&nbsp\;<br />\nThis will be at our fields in Mt Juliet fields!&nbsp\;<br />\n<span style="color:rgb(0\, 0\, 0)\; font-family:arial\,helvetica\,sans-serif\; font-size:12px">Soccer is one of the fastest growing sports in the world as well as in Wilson County. Our goal is to see continued success while offering a fun and learning experience for all children in the city and county. Soccer offers many important skills in life that all children can benefit from such as:</span><br />\n<br />\n<span style="color:rgb(0\, 0\, 0)\; font-family:arial\,helvetica\,sans-serif\; font-size:12px">Teamwork</span><br />\n<span style="color:rgb(0\, 0\, 0)\; font-family:arial\,helvetica\,sans-serif\; font-size:12px">Fun &amp\; Healthy Exercise</span><br />\n<span style="color:rgb(0\, 0\, 0)\; font-family:arial\,helvetica\,sans-serif\; font-size:12px">Social Interaction</span><br />\n<span style="color:rgb(0\, 0\, 0)\; font-family:arial\,helvetica\,sans-serif\; font-size:12px">Healthy Competition</span><br />\n<br />\n<span style="color:rgb(0\, 0\, 0)\; font-family:arial\,helvetica\,sans-serif\; font-size:12px">Wilson United helps coordinate and facilitate club practice and play for youth and adults in Wilson County. The Wilson United Soccer Club is the premier soccer club in the greater Nashville area.&nbsp\; We provide competitive soccer for our travel and rec programs.</span>\n<div><br />\nWilson United Soccer Club is a non-profit 501c3 organization.&nbsp\; Our organization is comprised of community leaders\, soccer enthusiasts and mostly parents who have children in the league.&nbsp\; One hundred percent of our registration fees go to pay the expenses in running the league\, to make improvements to our complex\, and to purchase equipment to keep up our facility. Wilson United has no paid positions on the Board of Directors.</div>\n
LOCATION:97 Lorenzo Drive\, Mt. Juliet\, TN
UID:e.2544.10845
SEQUENCE:3
DTSTAMP:20260424T091426Z
URL:https://business.mjchamber.org/events/details/wilson-united-soccer-in-person-registration-10845
END:VEVENT

END:VCALENDAR
