BEGIN:VCALENDAR
VERSION:2.0
PRODID:-//ChamberMaster//Event Calendar 2.0//EN
METHOD:PUBLISH
X-PUBLISHED-TTL:P3D
REFRESH-INTERVAL:P3D
CALSCALE:GREGORIAN
BEGIN:VEVENT
DTSTART:20220727T140000Z
DTEND:20220727T144500Z
X-MICROSOFT-CDO-ALLDAYEVENT:FALSE
SUMMARY:Wilson Wednesday
DESCRIPTION:Join us for our meet-and-greet with County Mayor Randall Hutto (or another county representative).\n\n\n\nThis FREE in-person coffee chat series is designed to answer your questions and find out what's new in Wilson County.
X-ALT-DESC;FMTTYPE=text/html:<div style="text-align: center\;"><strong><span style="font-size:20px\;"><span style="color:#000000\;"><span style="font-family:verdana\;"><span style="text-align: justify\;">Join us for our meet-and-greet with County Mayor Randall Hutto (or another county representative).<br />\n<br />\nThis FREE in-person coffee chat series is designed to answer your questions and find out what&#39\;s new in Wilson County.&nbsp\;</span></span></span></span></strong></div>\n<br />\n<br />\n<br />\n&nbsp\;
LOCATION:Chamber Office 2055 N. Mt. Juliet Road Suite 200 across for the train station
UID:e.2544.10470
SEQUENCE:3
DTSTAMP:20260423T231654Z
URL:https://business.mjchamber.org/events/details/wilson-wednesday-07-27-2022-10470
END:VEVENT

END:VCALENDAR
