BEGIN:VCALENDAR
VERSION:2.0
PRODID:-//ChamberMaster//Event Calendar 2.0//EN
METHOD:PUBLISH
X-PUBLISHED-TTL:P3D
REFRESH-INTERVAL:P3D
CALSCALE:GREGORIAN
BEGIN:VEVENT
DTSTART:20120926T223000Z
DTEND:20120926T123000Z
X-MICROSOFT-CDO-ALLDAYEVENT:FALSE
SUMMARY:Wine Down Wednesday
DESCRIPTION:Join the Mt. Juliet Young Professionals for a relaxing networking event.  We will be at Jonathan's Grille for this monthly mixer.  Meet fellow young professionals and find out about our upcoming events.
X-ALT-DESC;FMTTYPE=text/html:Join the Mt. Juliet Young Professionals for a relaxing networking event.  We will be at Jonathan's Grille for this monthly mixer.  Meet fellow young professionals and find out about our upcoming events.
LOCATION:613 South Mt. Juliet Rd\, Mt. Juliet\, TN 37122 Jonathan's Grille (near Providence)
UID:e.2544.348
SEQUENCE:3
DTSTAMP:20260423T085923Z
URL:https://business.mjchamber.org/events/details/wine-down-wednesday-09-26-2012-348
END:VEVENT

END:VCALENDAR
