BEGIN:VCALENDAR
VERSION:2.0
PRODID:-//ChamberMaster//Event Calendar 2.0//EN
METHOD:PUBLISH
X-PUBLISHED-TTL:P3D
REFRESH-INTERVAL:P3D
CALSCALE:GREGORIAN
BEGIN:VEVENT
DTSTART:20120908T140000Z
DTEND:20120908T180000Z
X-MICROSOFT-CDO-ALLDAYEVENT:FALSE
SUMMARY:Yard Sale for Alzheimers Foundation
DESCRIPTION:The Maristone at Providence will be hosting a Yard Sale to benefit the Alzheimers Foundation. We will have food\, drinks and live entertainment\, along with many nice items to purchase.\nWe would appreciate any gently used clothing or household items for donation. Donations can be dropped off to the facility any time during the day from 9-5pm.\n100% of the profits will benefit the Alzheimers Foundation!\nPlease plan to attend great this event!
X-ALT-DESC;FMTTYPE=text/html:The Maristone at Providence will be hosting a Yard Sale to benefit the Alzheimers Foundation. We will have food\, drinks and live entertainment\, along with many nice items to purchase.\nWe would appreciate any gently used clothing or household items for donation. Donations can be dropped off to the facility any time during the day from 9-5pm.\n100% of the profits will benefit the Alzheimers Foundation!\nPlease plan to attend great this event! 
LOCATION:140 Providence Trail\, Mt Juliet\, TN 37122 The Maristone at Providence is located at 140 Providence Trail\, Mt Juliet. Directly behind Providence Place Shopping Center.
UID:e.2544.333
SEQUENCE:3
DTSTAMP:20260423T085304Z
URL:https://business.mjchamber.org/events/details/yard-sale-for-alzheimers-foundation-09-08-2012-333
END:VEVENT

END:VCALENDAR
